BEGIN:VCALENDAR
VERSION:2.0
PRODID:-//CiviCRM//NONSGML CiviEvent iCal//EN
X-WR-TIMEZONE:Europe/Berlin
METHOD:PUBLISH
BEGIN:VTIMEZONE
TZID:Europe/Berlin
BEGIN:DAYLIGHT
TZOFFSETFROM:+0200
TZOFFSETTO:+0200
TZNAME:CEST
DTSTART:20260526T180000
END:DAYLIGHT
END:VTIMEZONE
BEGIN:VEVENT
UID:CiviCRM_EventID_1122_d395f586ffb5b26728fb15b5681e1769@crm.patriotische-gesellschaft.de/de
SUMMARY:Demokratien unter Druck: Olaf Scholz im Gespräch ü
 ber Sicherheit\, Handel und das Europa von Morgen
X-ALT-DESC;FMTTYPE=text/html:<!DOCTYPE HTML PUBLIC
  "-//W3C//DTD HTML 3.2//EN"><html><body><p><span s
 tyle="font-family:Verdana\;font-size:12px\;"><b>Im
  Rahmen der Europa-Woche und in Kooperation mit de
 r Europa-Union Hamburg findet am </b></span></p><p
 ><b><span style="font-family:Verdana\;font-size:12
 px\;">Dienstag\, den 26. Mai 2026\, um 18 Uhr</spa
 n><br /><span style="font-family:Verdana\;font-siz
 e:12px\;">im Haus der Patriotischen Gesellschaft\,
 </span><br /><span style="font-family:Verdana\;fon
 t-size:12px\;">Reimarus-Saal </span></b></p><p><sp
 an style="font-family:Verdana\;font-size:12px\;"><
 b>eine Podiumsdiskussion mit Olaf Scholz statt.</b
 ></span></p><p><span style="font-family:Verdana\;f
 ont-size:12px\;">Während\n der Kanzlerschaft von O
 laf Scholz stand Europa unter Druck wie selten zuv
 or:\n Die Corona-Pandemie\, zunehmende Spannungen 
 innerhalb der Europäischen Union und\n der russisc
 he Angriffskrieg gegen die Ukraine haben politisch
 e Gewissheiten\n erschüttert und die Handlungsfähi
 gkeit Europas auf die Probe gestellt. </span></p><
 p class="ydpd316aba2yiv0119509453western"><span st
 yle="font-family:Verdana\;font-size:12px\;"> Auch 
 nach dem Ende\n der Amtszeit von Olaf Scholz bleib
 en die Herausforderungen groß: geopolitische\n Kon
 flikte\, wirtschaftliche Unsicherheiten und die Fr
 age nach Europas Rolle in\n einer sich wandelnden 
 Weltordnung   bleiben\n zentrale Herausforderungen
  für Politik und Gesellschaft.   </span></p><p><sp
 an style="font-family:Verdana\;font-size:12px\;"> 
 Welche\n Antworten hat Europa auf diese Entwicklun
 gen gefunden – und wo steht die\n Europäische Unio
 n heute? Wie lässt sich europäische Handlungsfähig
 keit in\n Krisenzeiten sichern? Und welche Rolle k
 ommt Deutschland dabei zu? Im Gespräch\n blickt Ol
 af Scholz auf seine Zeit als Bundeskanzler zurück 
 und <span style="font-family:Verdana\;font-size:12
 px\;">diskutiert\n gemeinsam mit der Politikwissen
 schaftlerin  </span></span><em><span style="font-f
 amily:Verdana\;font-size:12px\;"> Dr. Julia Reusch
 enbach </span></em><span style="font-family:Verdan
 a\;font-size:12px\;">  und mit dem Publikum die ze
 ntralen\n Fragen zur Zukunft Europas.</span></p><p
 ><span style="font-family:Verdana\;font-size:12px\
 ;">Eine Anmeldung ist erforderlich.</span></p><p> 
 <br /></p><p>   </p><p>  <br /></p></body></html>
DESCRIPTION:Im Rahmen der Europa-Woche und in Kooperation mit 
 der Europa-Union Hamburg findet am \n \n Dienstag\
 , den 26. Mai 2026\, um 18 Uhr\n im Haus der Patri
 otischen Gesellschaft\,\n Reimarus-Saal \n \n eine
  Podiumsdiskussion mit Olaf Scholz statt.\n \n Wäh
 rend\n der Kanzlerschaft von Olaf Scholz stand Eur
 opa unter Druck wie selten zuvor:\n Die Corona-Pan
 demie\, zunehmende Spannungen innerhalb der Europä
 ischen Union und\n der russische Angriffskrieg geg
 en die Ukraine haben politische Gewissheiten\n ers
 chüttert und die Handlungsfähigkeit Europas auf di
 e Probe gestellt. \n \n  Auch nach dem Ende\n der 
 Amtszeit von Olaf Scholz bleiben die Herausforderu
 ngen groß: geopolitische\n Konflikte\, wirtschaftl
 iche Unsicherheiten und die Frage nach Europas Rol
 le in\n einer sich wandelnden Weltordnung   bleibe
 n\n zentrale Herausforderungen für Politik und Ges
 ellschaft.   \n \n  Welche\n Antworten hat Europa 
 auf diese Entwicklungen gefunden – und wo steht di
 e\n Europäische Union heute? Wie lässt sich europä
 ische Handlungsfähigkeit in\n Krisenzeiten sichern
 ? Und welche Rolle kommt Deutschland dabei zu? Im 
 Gespräch\n blickt Olaf Scholz auf seine Zeit als B
 undeskanzler zurück und diskutiert\n gemeinsam mit
  der Politikwissenschaftlerin   Dr. Julia Reuschen
 bach   und mit dem Publikum die zentralen\n Fragen
  zur Zukunft Europas.\n \n Eine Anmeldung ist erfo
 rderlich.\n \n  \n \n \n    \n \n   \n \n \n 
CATEGORIES:Vortrag / Diskussion
CALSCALE:GREGORIAN
DTSTAMP;TZID=Europe/Berlin:20260526T180000
DTSTART;TZID=Europe/Berlin:20260526T180000
DTEND;TZID=Europe/Berlin:20260526T180000
LOCATION:Reimarus-Saal\n Im Haus der Patriotischen Gesellsc
 haft\n Trostbrücke 6\n 20457 Hamburg\n 
URL:https://crm.patriotische-gesellschaft.de/de/civicrm/event/info?reset=1&id=1122
END:VEVENT
END:VCALENDAR
